BEGIN:VCALENDAR
VERSION:2.0
PRODID:-//Squarespace Inc/Squarespace 6//v6//EN
BEGIN:VEVENT
UID:5e16793a0c5a17560b5506c4@squarespace.com
DTSTAMP:20200203T053544Z
DTSTART:20200115T230000Z
DTEND:20200116T003000Z
SUMMARY:EOA webinar: understanding biomass - the importance of satellite-de
 rived products and global collaboration
END:VEVENT
END:VCALENDAR
