BEGIN:VCALENDAR
VERSION:2.0
PRODID:-//Squarespace Inc/Squarespace 6//v6//EN
BEGIN:VEVENT
UID:5e37b1b79d383458f72150bc@squarespace.com
DTSTAMP:20200227T013508Z
DTSTART:20200927T223000Z
DTEND:20201002T063000Z
SUMMARY:Advancing Earth Observation Forum
END:VEVENT
END:VCALENDAR
