BEGIN:VCALENDAR
VERSION:2.0
PRODID:-//Squarespace Inc/Squarespace 6//v6//EN
BEGIN:VEVENT
UID:5e31129ed9f93063aa9b523f@squarespace.com
DTSTAMP:20200221T003931Z
DTSTART:20200319T010000Z
DTEND:20200319T023000Z
SUMMARY:EOA webinar: 'Satellite data: a critical element of modern weather 
 forecasting'
END:VEVENT
END:VCALENDAR
