BEGIN:VCALENDAR
VERSION:2.0
PRODID:-//Squarespace Inc/Squarespace 6//v6//EN
BEGIN:VEVENT
UID:5e311407d21fdf2df7148231@squarespace.com
DTSTAMP:20200203T053359Z
DTSTART:20200514T010000Z
DTEND:20200514T023000Z
SUMMARY:Forthcoming EOA Webinar - TBA
END:VEVENT
END:VCALENDAR
