BEGIN:VCALENDAR
VERSION:2.0
PRODID:-//Squarespace Inc/Squarespace 6//v6//EN
BEGIN:VEVENT
UID:5e3115680fffb84a490828cf@squarespace.com
DTSTAMP:20200203T053430Z
DTSTART:20201014T010000Z
DTEND:20201014T023000Z
SUMMARY:Forthcoming EOA webinar - TBA
END:VEVENT
END:VCALENDAR
