BEGIN:VCALENDAR
VERSION:2.0
PRODID:-//Squarespace Inc/Squarespace 6//v6//EN
BEGIN:VEVENT
UID:5e3115ba89363c704fe31c6e@squarespace.com
DTSTAMP:20200203T053444Z
DTSTART:20201209T010000Z
DTEND:20201209T023000Z
SUMMARY:Forthcoming EOA webinar - TBA
END:VEVENT
END:VCALENDAR
