BEGIN:VCALENDAR
VERSION:2.0
PRODID:-//Squarespace Inc/Squarespace 6//v6//EN
BEGIN:VEVENT
UID:5e3114ccdd743e65e64ae10e@squarespace.com
DTSTAMP:20200203T053417Z
DTSTART:20200716T010000Z
DTEND:20200716T023000Z
SUMMARY:Forthcoming EOA webinar - TBA
END:VEVENT
END:VCALENDAR
