BEGIN:VCALENDAR
VERSION:2.0
PRODID:-//Squarespace Inc/Squarespace 6//v6//EN
BEGIN:VEVENT
UID:5d7ec7cb9d991000aaf10842@squarespace.com
DTSTAMP:20190916T011921Z
DTSTART:20190924T010000Z
DTEND:20190924T021500Z
SUMMARY:Webinar: accessing and using the Copernicus Australasia Data Hub
END:VEVENT
END:VCALENDAR
