BEGIN:VCALENDAR
VERSION:2.0
PRODID:-//Squarespace Inc/Squarespace 6//v6//EN
BEGIN:VEVENT
UID:5cef1a1b21b452000184b20e@squarespace.com
DTSTAMP:20190612T010601Z
DTSTART:20190613T010000Z
DTEND:20190613T023000Z
SUMMARY:Whole of Community Meeting
END:VEVENT
END:VCALENDAR
