BEGIN:VCALENDAR
VERSION:2.0
PRODID:-//Squarespace Inc/Squarespace 6//v6//EN
BEGIN:VEVENT
UID:5d426b065d733d000105d25c@squarespace.com
DTSTAMP:20191002T233836Z
DTSTART:20190812T010000Z
DTEND:20190812T023000Z
SUMMARY:Whole of Community Meeting
END:VEVENT
END:VCALENDAR
