BEGIN:VCALENDAR
VERSION:2.0
PRODID:-//Squarespace Inc/Squarespace 6//v6//EN
BEGIN:VEVENT
UID:5cbfa8281905f4631cf49556@squarespace.com
DTSTAMP:20190424T001819Z
DTSTART:20190523T020000Z
DTEND:20190523T030000Z
SUMMARY:EOA Special General Meeting
END:VEVENT
END:VCALENDAR
