BEGIN:VCALENDAR
VERSION:2.0
PRODID:-//Squarespace Inc/Squarespace 6//v6//EN
BEGIN:VEVENT
UID:5dccba3b44277a243028e472@squarespace.com
DTSTAMP:20200203T053557Z
DTSTART:20191212T010000Z
DTEND:20191212T023000Z
SUMMARY:EOA webinar: Understanding Fire in the Australian Landscape
END:VEVENT
END:VCALENDAR
