BEGIN:VCALENDAR
VERSION:2.0
PRODID:-//Squarespace Inc/Squarespace 6//v6//EN
BEGIN:VEVENT
UID:5d916bc07cc546077f7bf073@squarespace.com
DTSTAMP:20200203T053628Z
DTSTART:20191010T010000Z
DTEND:20191010T023000Z
SUMMARY:Whole-of-community meeting
END:VEVENT
END:VCALENDAR
