BEGIN:VCALENDAR
VERSION:2.0
PRODID:-//Squarespace Inc/Squarespace 6//v6//EN
BEGIN:VEVENT
UID:5ca59b2a085229c99501265d@squarespace.com
DTSTAMP:20190801T043102Z
DTSTART:20190411T010000Z
DTEND:20190411T020000Z
SUMMARY:Whole of Community Meeting
END:VEVENT
END:VCALENDAR
