BEGIN:VCALENDAR
VERSION:2.0
PRODID:-//Squarespace Inc/Squarespace 6//v6//EN
BEGIN:VEVENT
UID:5c6a12619140b77a89d269c6@squarespace.com
DTSTAMP:20190226T231825Z
DTSTART:20190228T010000Z
DTEND:20190228T020000Z
SUMMARY:Whole of Community Meeting
END:VEVENT
END:VCALENDAR
