BEGIN:VCALENDAR
VERSION:2.0
PRODID:-//Squarespace Inc/Squarespace 6//v6//EN
BEGIN:VEVENT
UID:5a77b3e70d929789ff28c99f@squarespace.com
DTSTAMP:20180801T003225Z
DTSTART:20180802T010000Z
DTEND:20180802T020000Z
SUMMARY:Whole of Community Meeting
END:VEVENT
END:VCALENDAR
