BEGIN:VCALENDAR
VERSION:2.0
PRODID:-//Squarespace Inc/Squarespace 6//v6//EN
BEGIN:VEVENT
UID:5a77b2ac419202f8d97a914f@squarespace.com
DTSTAMP:20180612T042318Z
DTSTART:20180614T010000Z
DTEND:20180614T020000Z
SUMMARY:Whole of Community Meeting
END:VEVENT
END:VCALENDAR
