BEGIN:VCALENDAR
VERSION:2.0
PRODID:-//Squarespace Inc/Squarespace 6//v6//EN
BEGIN:VEVENT
UID:5ae27716575d1f4839ac9254@squarespace.com
DTSTAMP:20180427T015408Z
DTSTART:20180503T020000Z
DTEND:20180503T030000Z
SUMMARY:Webinar: CEOS Feasibility Study for Aquatic Ecosystem EO Mission
END:VEVENT
END:VCALENDAR
