BEGIN:VCALENDAR
VERSION:2.0
PRODID:-//Squarespace Inc/Squarespace 6//v6//EN
BEGIN:VEVENT
UID:5a77c743ec212dda585b0281@squarespace.com
DTSTAMP:20190218T020313Z
DTSTART:20181206T010000Z
DTEND:20181206T020000Z
SUMMARY:Whole of Community Meeting
END:VEVENT
END:VCALENDAR
