BEGIN:VCALENDAR
VERSION:2.0
PRODID:-//Squarespace Inc/Squarespace 6//v6//EN
BEGIN:VEVENT
UID:5a77c5a99140b782983507e7@squarespace.com
DTSTAMP:20181017T010806Z
DTSTART:20181018T010000Z
DTEND:20181018T020000Z
SUMMARY:Whole of Community Meeting
END:VEVENT
END:VCALENDAR
