BEGIN:VCALENDAR
VERSION:2.0
PRODID:-//Squarespace Inc/Squarespace 6//v6//EN
BEGIN:VEVENT
UID:59f66c5424a694055a708965@squarespace.com
DTSTAMP:20171030T001156Z
DTSTART:20170806T233000Z
DTEND:20170822T070000Z
SUMMARY:URGENT!  Have your say - Review of Australia's space industry capab
 ility in response to opportunities within the global space industry sector
END:VEVENT
END:VCALENDAR
