BEGIN:VCALENDAR
VERSION:2.0
PRODID:-//Squarespace Inc/Squarespace 6//v6//EN
BEGIN:VEVENT
UID:59f66b4b2774d1138b9e82e3@squarespace.com
DTSTAMP:20171030T000859Z
DTSTART:20170811T010000Z
DTEND:20170816T070000Z
SUMMARY:Let us know what research infrastructure you\, your agency or your 
 business needs for using Earth Observation Data\, now and in 5 and 10 year
 s! 
END:VEVENT
END:VCALENDAR
