BEGIN:VCALENDAR
VERSION:2.0
PRODID:-//Squarespace Inc/Squarespace 6//v6//EN
BEGIN:VEVENT
UID:5a0913b2c83025174d2454e9@squarespace.com
DTSTAMP:20171208T003612Z
DTSTART:20171215T013000Z
DTEND:20171215T023000Z
SUMMARY:Whole of Community Meeting
END:VEVENT
END:VCALENDAR
